1
0
0
-1
594040.5
4706129.5
