1
0
0
-1
642160.5
4697739.5
