1
0
0
-1
655670.5
4707299.5
