1
0
0
-1
601160.5
4687729.5
