1
0
0
-1
594600.5
4664489.5
