1
0
0
-1
594670.5
4659859.5
