1
0
0
-1
615420.5
4655569.5
