1
0
0
-1
601690.5
4650709.5
