1
0
0
-1
599680.5
4789519.5
