1
0
0
-1
606440.5
4789629.5
