1
0
0
-1
613210.5
4789739.5
