1
0
0
-1
572810.5
4770639.5
