1
0
0
-1
599880.5
4775639.5
