1
0
0
-1
613510.5
4771239.5
