1
0
0
-1
593230.5
4766279.5
