1
0
0
-1
640740.5
4767139.5
