2.5
0
0
-2.5
593291.25
4761758.75
