2.5
0
0
-2.5
606871.25
4761988.75
