2.5
0
0
-2.5
593421.25
4752508.75
