2.5
0
0
-2.5
539051.25
4742618.75
