2.5
0
0
-2.5
648231.25
4735058.75
