2.5
0
0
-2.5
539211.25
4714858.75
