2.5
0
0
-2.5
566741.25
4696618.75
