2.5
0
0
-2.5
594041.25
4706238.75
