2.5
0
0
-2.5
635131.25
4706998.75
