2.5
0
0
-2.5
621591.25
4697458.75
