2.5
0
0
-2.5
606291.25
4798998.75
