2.5
0
0
-2.5
647431.25
4772078.75
