0.1
0
0
-0.1
605830.121105222
4724644.13828081
