0.1
0
0
-0.1
644515.344752773
4753118.59980992
