0.1
0
0
-0.1
580280.695615672
4719093.37621627
