0.1
0
0
-0.1
614741.658370756
4649587.91601702
