0.1
0
0
-0.1
612162.122968406
4648968.0141789
