0.1
0
0
-0.1
612171.288316715
4648389.73984266
