0.1
0
0
-0.1
613897.382341108
4648417.48735865
