0.1
0
0
-0.1
612180.450163345
4647811.46500423
