0.1
0
0
-0.1
549529.479704817
4718226.19965324
