0.1
0
0
-0.1
633281.910103172
4718177.71903609
