0.1
0
0
-0.1
633293.042752353
4717599.38303554
