0.1
0
0
-0.1
635868.311234386
4717070.95606972
