0.1
0
0
-0.1
635036.145443425
4715897.43020713
