0.1
0
0
-0.1
574163.449174156
4731749.79746991
