0.1
0
0
-0.1
574169.69540352
4731171.45737295
