0.1
0
0
-0.1
575881.687565092
4730611.62854482
