0.1
0
0
-0.1
575888.069761493
4730033.29246902
