0.1
0
0
-0.1
573335.411703303
4729427.1842182
