0.1
0
0
-0.1
575907.220195132
4728298.28201121
