0.1
0
0
-0.1
575085.612926927
4725397.33410991
