0.1
0
0
-0.1
576786.192208048
4725994.3945271
