0.1
0
0
-0.1
576799.091148778
4724837.71807443
